BEGIN:VCALENDAR
VERSION:2.0
PRODID:-//ChamberMaster//Event Calendar 2.0//EN
METHOD:PUBLISH
X-PUBLISHED-TTL:P3D
REFRESH-INTERVAL:P3D
CALSCALE:GREGORIAN
BEGIN:VEVENT
DTSTART:20150529T230000Z
DTEND:20150530T013000Z
X-MICROSOFT-CDO-ALLDAYEVENT:FALSE
SUMMARY:Yoga & Sound Meditation w/ "13 Hands"
DESCRIPTION:Dalien\, a.k.a. 13 HANDS is a two-time Grammy nominee\, professor of yoga\, and sound therapist. With 13 albums\, he plays over 25 instruments and tours approximately 100-150 events a year. A survivor of Crohn?s/colitis and other endocrine issues\, he healed himself completely through an inspiring journey. Dalien will be touring the region and making a visit to the ONE BIG ROOF for the first time to share a relaxing yoga and sound meditation experience. He?ll open the evening with a short overview of how he cured himself of Crohn?s. The yoga program will be consist of a gentle practice with a focus on low back\, core\, and shoulder opening poses to develop strength\, relieve tension\, and increase circulation in the body. The experience will be followed by a blissful and relaxing\, 45-minute sound meditation/relaxation experience where the live sounds of Native flutes\, hang drum\, quartz crystal bowl\, gong\, and other ambient world instruments will accompany your journey into deep relaxation and renewal. This program is open to all levels of student\, practitioner. The evening will end with some light interactive music\, chants\, and songs from his new album to gently wake the body up from this very deep and relaxing experience. Pre-registration (preferred) $30 ? Day of $40 (space permitting) TO REGISTER: email 13hands1@gmail.com
X-ALT-DESC;FMTTYPE=text/html:Dalien\, a.k.a. 13 HANDS is a two-time Grammy nominee\, professor of yoga\, and sound therapist. With 13 albums\, he plays over 25 instruments and tours approximately 100-150 events a year. A survivor of Crohn?s/colitis and other endocrine issues\, he healed himself completely through an inspiring journey. Dalien will be touring the region and making a visit to the ONE BIG ROOF for the first time to share a relaxing yoga and sound meditation experience. He?ll open the evening with a short overview of how he cured himself of Crohn?s. The yoga program will be consist of a gentle practice with a focus on low back\, core\, and shoulder opening poses to develop strength\, relieve tension\, and increase circulation in the body. The experience will be followed by a blissful and relaxing\, 45-minute sound meditation/relaxation experience where the live sounds of Native flutes\, hang drum\, quartz crystal bowl\, gong\, and other ambient world instruments will accompany your journey into deep relaxation and renewal. This program is open to all levels of student\, practitioner. The evening will end with some light interactive music\, chants\, and songs from his new album to gently wake the body up from this very deep and relaxing experience. Pre-registration (preferred) $30 ? Day of $40 (space permitting) TO REGISTER: email 13hands1@gmail.com
LOCATION:One Big Roof\, 433 Broadway\, Suite 302 (above Putnam Market)
UID:e.2254.8370
SEQUENCE:3
DTSTAMP:20260423T164203Z
URL:https://chamber.saratoga.org/events/details/yoga-sound-meditation-w-13-hands-05-29-2015-8370
END:VEVENT

END:VCALENDAR
