BEGIN:VCALENDAR
VERSION:2.0
PRODID:-//ChamberMaster//Event Calendar 2.0//EN
METHOD:PUBLISH
X-PUBLISHED-TTL:P3D
REFRESH-INTERVAL:P3D
CALSCALE:GREGORIAN
BEGIN:VEVENT
DTSTART:20160625T180000Z
DTEND:20160625T210000Z
X-MICROSOFT-CDO-ALLDAYEVENT:FALSE
SUMMARY:Yoga & Live Drumming Wksp w/ Anna Witt
DESCRIPTION:Summer Kick-off Workshop: Yoga & Live Drumming with Anna Witt Enliven your practice\, open your heart to refresh your vision. This transformational journey is led by live drumming\, mantra\, kriya and the liquidity of your own free movement! Relax into a blissful\, healing state of being. All are welcome!
X-ALT-DESC;FMTTYPE=text/html:Summer Kick-off Workshop: Yoga &amp\; Live Drumming with Anna Witt Enliven your practice\, open your heart to refresh your vision. This transformational journey is led by live drumming\, mantra\, kriya and the liquidity of your own free movement! Relax into a blissful\, healing state of being. All are welcome!
LOCATION:Wksp/Classes are held at 538 Maple Ave (Route 9)\, Saratoga Health & Wellness Bldg\, across from the Maple Ave Middle School\, just off Route 50. Enter at the rear.
UID:e.2254.16927
SEQUENCE:3
DTSTAMP:20260421T080719Z
URL:https://chamber.saratoga.org/events/details/yoga-live-drumming-wksp-w-anna-witt-06-25-2016-16927
END:VEVENT

END:VCALENDAR
