BEGIN:VCALENDAR
VERSION:2.0
PRODID:-//ChamberMaster//Event Calendar 2.0//EN
METHOD:PUBLISH
X-PUBLISHED-TTL:P3D
REFRESH-INTERVAL:P3D
CALSCALE:GREGORIAN
BEGIN:VEVENT
DTSTART:20150819T224500Z
DTEND:20150819T224500Z
X-MICROSOFT-CDO-ALLDAYEVENT:FALSE
SUMMARY:Yoga in the Park with Kim Beekman
DESCRIPTION:A special three-part yoga series featuring three unique yoga instructors on the grounds of the beautiful Saratoga Spa State Park. Funds raised will benefit the development of COESA\, Inc.\, a not-for-profit holistic wellness center within the Spa Park. Each session will begin at 6:45 p.m. immediately preceding the Philadelphia Orchestra performance at the Saratoga Performing Arts Center. Featured instructors are: Ann Biasetti on August 5th Nini Gridley on August 12th Kim Beekman on August 19th Classes: $10 Suggested Donation: $20 Students are encouraged to bring their own mats and props. Rain location in the Administrative Building Lobby.
X-ALT-DESC;FMTTYPE=text/html:A special three-part yoga series featuring three unique yoga instructors on the grounds of the beautiful Saratoga Spa State Park. Funds raised will benefit the development of COESA\, Inc.\, a not-for-profit holistic wellness center within the Spa Park. Each session will begin at 6:45 p.m. immediately preceding the Philadelphia Orchestra performance at the Saratoga Performing Arts Center. Featured instructors are: Ann Biasetti on August 5th Nini Gridley on August 12th Kim Beekman on August 19th Classes: $10 Suggested Donation: $20 Students are encouraged to bring their own mats and props. Rain location in the Administrative Building Lobby.
LOCATION:Saratoga Spa State Park - Administration Building
UID:e.2254.10132
SEQUENCE:3
DTSTAMP:20260423T024038Z
URL:https://chamber.saratoga.org/events/details/yoga-in-the-park-with-kim-beekman-08-19-2015-10132
END:VEVENT

END:VCALENDAR
