BEGIN:VCALENDAR
VERSION:2.0
PRODID:-//ChamberMaster//Event Calendar 2.0//EN
METHOD:PUBLISH
X-PUBLISHED-TTL:P3D
REFRESH-INTERVAL:P3D
CALSCALE:GREGORIAN
BEGIN:VEVENT
DTSTART:20160813T123000Z
DTEND:20160813T133000Z
X-MICROSOFT-CDO-ALLDAYEVENT:FALSE
SUMMARY:Yoga for Saratoga WarHorse!
DESCRIPTION:Please join us for YOGA on Saturday August 13\, 2016\n\n8:30-9:30 AM\n\nTaught by: Taryn Woodard\n\n \n\nA fundraiser in support of \n\nSARATOGA WARHORSE!\n\n \n\n\n\nWhat to Bring?  Yoga Mat\, Towel\, and Water Bottle\n\nBeginners Welcome!
X-ALT-DESC;FMTTYPE=text/html:<span style="font-family:segoe print"><span style="font-size:10.0pt">Please join us for </span></span><strong><span style="font-family:segoe print"><span style="font-size:16.0pt">YOGA</span></span></strong> <span style="font-family:segoe print"><span style="font-size:10.0pt">on </span></span><strong><span style="font-family:segoe print"><span style="font-size:16.0pt">Saturday August 13\, 2016</span></span></strong><br />\n<strong><span style="font-family:segoe print"><span style="font-size:10.0pt">8:30-9:30 AM</span></span></strong><br />\n<span style="font-family:segoe print"><span style="font-size:10.0pt">Taught by: Taryn Woodard</span></span><br />\n&nbsp\;<br />\n<strong><span style="color:#993300"><span style="font-family:segoe print"><span style="font-size:10.0pt">A <u>fundraiser</u> in support of </span></span></span></strong><br />\nSARATOGA WARHORSE!<br />\n&nbsp\;<br />\n<br />\n<strong><span style="font-family:segoe print"><span style="font-size:10.0pt">What to Bring?</span></span></strong><span style="font-family:segoe print"><span style="font-size:10.0pt">&nbsp\; Yoga Mat\, Towel\, and Water Bottle</span></span><br />\n<strong><span style="font-family:segoe print"><span style="font-size:10.0pt">Beginners Welcome!&nbsp\;</span></span></strong>
LOCATION:Sports Physical Therapy of New York\, PC 4102 Ellsworth Boulevard Malta\, NY 12020
UID:e.2254.17586
SEQUENCE:3
DTSTAMP:20260421T004432Z
URL:https://chamber.saratoga.org/events/details/yoga-for-saratoga-warhorse-08-13-2016-17586
END:VEVENT

END:VCALENDAR
