BEGIN:VCALENDAR
VERSION:2.0
PRODID:-//ChamberMaster//Event Calendar 2.0//EN
METHOD:PUBLISH
X-PUBLISHED-TTL:P3D
REFRESH-INTERVAL:P3D
CALSCALE:GREGORIAN
BEGIN:VEVENT
DTSTART:20150619T000000Z
DTEND:20150619T020000Z
X-MICROSOFT-CDO-ALLDAYEVENT:FALSE
SUMMARY:Yaddo Summer Benefit
DESCRIPTION:Yaddo's annual fundraising event\, held on the grounds in the Mansion\, will feature a program by Yaddo artist Gabriel Kahane\, a wonderful singer-songwriter and musician\, who will move from piano to guitar\, playing numbers from his latest album\, The Ambassador\, a celebration of the many contributions Yaddo artists make to our cultural life\, the benefit is always a vibrant and sold-out event. Over 200 guests are expected from Saratoga Springs\, Glens Falls\, Albany and the entire Capital District\, enjoying an evening of entertainment\, delicious food and wine\, and splendid company.The proceeds from this event play a crucial role in ensuring that the artists residency program continues to flourish. Over 6\,500 individuals have created work at Yaddo literature (fiction\, non-fiction\, and poetry)\, paintings\, photography\, sculpture\, music\, dance and film that have helped shape the contemporary cultural landscape and touched millions of lives.
X-ALT-DESC;FMTTYPE=text/html:Yaddo&#39\;s annual fundraising event\, held on the grounds in the Mansion\, will feature a program by Yaddo artist Gabriel Kahane\, a wonderful singer-songwriter and musician\, who will move from piano to guitar\, playing numbers from his latest album\, The Ambassador\,&nbsp\;a celebration of the many contributions Yaddo artists make to our cultural life\, the benefit is always a vibrant and sold-out event. Over 200 guests are expected from Saratoga Springs\, Glens Falls\, Albany and the entire Capital District\, enjoying an evening of entertainment\, delicious food and wine\, and splendid company.The proceeds from this event play a crucial role in ensuring that the artists&nbsp\;residency program continues to flourish. Over 6\,500 individuals have created work at Yaddo&nbsp\;literature (fiction\, non-fiction\, and poetry)\, paintings\, photography\, sculpture\, music\, dance and film that have helped shape the contemporary cultural landscape and touched millions of lives.
LOCATION:Yaddo\, Union Avenue\, Saratoga Springs.
UID:e.2254.6390
SEQUENCE:3
DTSTAMP:20260423T072322Z
URL:https://chamber.saratoga.org/events/details/yaddo-summer-benefit-06-18-2015-6390
END:VEVENT

END:VCALENDAR
