BEGIN:VCALENDAR
VERSION:2.0
PRODID:-//ChamberMaster//Event Calendar 2.0//EN
METHOD:PUBLISH
X-PUBLISHED-TTL:P3D
REFRESH-INTERVAL:P3D
CALSCALE:GREGORIAN
BEGIN:VEVENT
DTSTART;VALUE=DATE:20141115
DTEND;VALUE=DATE:20141116
TRANSP:TRANSPARENT
X-MICROSOFT-CDO-ALLDAYEVENT:TRUE
SUMMARY:Works of Memory - 11/15/2014
DESCRIPTION:Located in The Rotunda Gallery\n\nWatercolor paintings created during The Hyde?s Memories in the Making? program for individuals living with Alzheimer?s disease. Curated by Hyde curator of education June Leary.
X-ALT-DESC;FMTTYPE=text/html:<p>Located in The Rotunda Gallery</p>\n\n<p><span style="font-size: 11pt\;">Watercolor paintings created during The Hyde?s <em>Memories in the Making? </em>program for individuals&nbsp\;</span><span style="font-family: Calibri\, sans-serif\; font-size: 11pt\;">living with Alzheimer?s disease. Curated by Hyde curator of education June Leary.</span></p>\n
LOCATION:The Hyde Collection Art Museum
UID:e.2254.2088
SEQUENCE:3
DTSTAMP:20260424T093441Z
URL:https://chamber.saratoga.org/events/details/works-of-memory-11-15-2014-11-15-2014-2088
END:VEVENT

END:VCALENDAR
