BEGIN:VCALENDAR
VERSION:2.0
PRODID:-//ChamberMaster//Event Calendar 2.0//EN
METHOD:PUBLISH
X-PUBLISHED-TTL:P3D
REFRESH-INTERVAL:P3D
CALSCALE:GREGORIAN
BEGIN:VEVENT
DTSTART:20161211T140000Z
DTEND:20161211T210000Z
X-MICROSOFT-CDO-ALLDAYEVENT:FALSE
SUMMARY:Woodturning-The Kid in All of Us with John Kingsley. #916-1211.
DESCRIPTION:Come have some fun channeling the kid in you! Make wooden spinning tops\, yo-yo's\, magic wands. Turn\, color\, embellish....Remember a simpler time with toys made of wood and hand made with pride.  Prior experience with woodturning is helpful.\n\n\n\n \n\n\nNOTE:  For your safety: no loose fitting clothes\, hair tied back\, comfortable shoes\, and no jewelry. If sensitive to wood dust registration for turning classes is not recommended.
X-ALT-DESC;FMTTYPE=text/html:<pre>\n<span style="color:black"><span style="font-family:arial\,sans-serif"><span style="font-size:12.0pt">Come have some fun channeling the kid in you! Make wooden spinning tops\, yo-yo&#39\;s\, magic wands. Turn\, color\, embellish....Remember a simpler time with toys made of wood and hand made with pride.&nbsp\; Prior experience with woodturning is helpful.</span></span></span></pre>\n\n<pre>\n\n&nbsp\;</pre>\n\n<pre>\n<strong><span style="color:black"><span style="font-family:\n"><span style="font-size:12.0pt">NOTE:&nbsp\; For your safety: no loose fitting clothes\, hair tied back\, comfortable shoes\, and no jewelry. If sensitive to wood dust registration for turning classes is not recommended.</span></span></span></strong></pre>\n
LOCATION:Adirondack Folk School 51 Main Street Lake Luzerne\, NY 12846
UID:e.2254.19486
SEQUENCE:3
DTSTAMP:20260420T184618Z
URL:https://chamber.saratoga.org/events/details/woodturning-the-kid-in-all-of-us-with-john-kingsley-916-1211-19486
END:VEVENT

END:VCALENDAR
