BEGIN:VCALENDAR
VERSION:2.0
PRODID:-//ChamberMaster//Event Calendar 2.0//EN
METHOD:PUBLISH
X-PUBLISHED-TTL:P3D
REFRESH-INTERVAL:P3D
CALSCALE:GREGORIAN
BEGIN:VEVENT
DTSTART:20160911T130000Z
DTEND:20160911T200000Z
X-MICROSOFT-CDO-ALLDAYEVENT:FALSE
SUMMARY:Woodturning-The Kid in All of Us with John Kingsley. #916-0911.
DESCRIPTION:Come have some fun channeling the kid in you! Make wooden spinning tops\, yo-yos\, magic wands. Turn\, color\, embellish....Remember a simpler time with toys made of wood and hand made with pride.\n\n\nNOTE:  For your safety: no loose fitting clothes\, hair tied back\, comfortable shoes\, and no jewelry. If sensitive to wood dust registration for turning classes is not recommended.
X-ALT-DESC;FMTTYPE=text/html:<pre>\n<span style="font-size:12pt"><span style="font-family:arial\,sans-serif"><span style="color:black">Come have some fun channeling the kid in you! Make wooden spinning tops\, yo-yos\, magic wands. Turn\, color\, embellish....Remember a simpler time with toys made of wood and hand made with pride.</span></span></span></pre>\n\n<pre>\n<strong><span style="font-size:12pt"><span style="font-family:arial\,sans-serif"><span style="color:black">NOTE:&nbsp\; For your safety: no loose fitting clothes\, hair tied back\, comfortable shoes\, and no jewelry. If sensitive to wood dust registration for turning classes is not recommended.</span></span></span></strong></pre>\n
LOCATION:Adirondack Folk School 51 Main Street Lake Luzerne\, NY 12846
UID:e.2254.16420
SEQUENCE:3
DTSTAMP:20260420T232457Z
URL:https://chamber.saratoga.org/events/details/woodturning-the-kid-in-all-of-us-with-john-kingsley-916-0911-09-11-2016-16420
END:VEVENT

END:VCALENDAR
