BEGIN:VCALENDAR
VERSION:2.0
PRODID:-//ChamberMaster//Event Calendar 2.0//EN
METHOD:PUBLISH
X-PUBLISHED-TTL:P3D
REFRESH-INTERVAL:P3D
CALSCALE:GREGORIAN
BEGIN:VEVENT
DTSTART:20160710T130000Z
DTEND:20160710T200000Z
X-MICROSOFT-CDO-ALLDAYEVENT:FALSE
SUMMARY:Woodturning - Live Edge Bowl with John Kingsley. #889-0710.
DESCRIPTION:Come create a simple turned bowl that still looks and feels rustic due to its live edge. This course is targeted to those who have an interest in learning how to turn. The emphasis will be on learning how to use a lathe and tools safely and correctly. In this class\, you will learn the basics of creating spindle-based objects and then work at turning your bowl. Leave the class with a lovely treasure that captures the "wild" feel of the Adirondacks!  Student must have taken the introductory class or have some basic familiarity with wood turning.\n\n\nNOTE:  For your safety: no loose fitting clothes\, hair tied back\, comfortable shoes\, and no jewelry. If sensitive to wood dust registration for turning classes is not recommended.
X-ALT-DESC;FMTTYPE=text/html:<pre>\n<span style="font-size:12pt"><span style="font-family:arial\,sans-serif"><span style="color:black">Come create a simple turned bowl that still looks and feels rustic due to its live edge. This course is targeted to those who have an interest in learning how to turn. The emphasis will be on learning how to use a lathe and tools safely and correctly. In this class\, you will learn the basics of creating spindle-based objects and then work at turning your bowl. Leave the class with a lovely treasure that captures the &quot\;wild&quot\; feel of the Adirondacks!&nbsp\; Student must have taken the introductory class or have some basic familiarity with wood turning.</span></span></span></pre>\n\n<pre>\n<strong><span style="font-size:12pt"><span style="font-family:arial\,sans-serif"><span style="color:black">NOTE:&nbsp\; For your safety: no loose fitting clothes\, hair tied back\, comfortable shoes\, and no jewelry. If sensitive to wood dust registration for turning classes is not recommended.</span></span></span></strong></pre>\n
LOCATION:Adirondack Folk School 51 Main Street Lake Luzerne\, NY 12846
UID:e.2254.15622
SEQUENCE:3
DTSTAMP:20260421T051210Z
URL:https://chamber.saratoga.org/events/details/woodturning-live-edge-bowl-with-john-kingsley-889-0710-07-10-2016-15622
END:VEVENT

END:VCALENDAR
