BEGIN:VCALENDAR
VERSION:2.0
PRODID:-//ChamberMaster//Event Calendar 2.0//EN
METHOD:PUBLISH
X-PUBLISHED-TTL:P3D
REFRESH-INTERVAL:P3D
CALSCALE:GREGORIAN
BEGIN:VEVENT
DTSTART:20160611T130000Z
DTEND:20160611T200000Z
X-MICROSOFT-CDO-ALLDAYEVENT:FALSE
SUMMARY:Woodturning: French Style Rolling Pin with David Salvetti. #946-0611.
DESCRIPTION:The French Style Rolling Pin is popular\, easy to turn and can be made in a reasonable amount of time. This rolling pin is laminated from contrasting woods\, then turned and sanded to perfect smoothness. We will be using maple (white in color) and purpleheart (darkens to a deep purple)\, or maple and black walnut\, student's choice. This project does not require previous woodturning experience-it is within reach of even the beginner\, yet an expert would be proud of the finished product. It makes a great gift. The instructor has made many rolling pins and has developed a number of methods to ease the steps and assure a successful finished product. Make a unique project that is both functional and beautiful! NOTE: Age 16 and up - For your safety: no loose fitting clothes\, hair tied back\, comfortable shoes\, and no jewelry. If sensitive to wood dust registration for turning classes is not recommended.
X-ALT-DESC;FMTTYPE=text/html:The French Style Rolling Pin is popular\, easy to turn and can be made in a reasonable amount of time. This rolling pin is laminated from contrasting woods\, then turned and sanded to perfect smoothness. We will be using maple (white in color) and purpleheart (darkens to a deep purple)\, or maple and black walnut\, student&#39\;s choice. This project does not require previous woodturning experience-it is within reach of even the beginner\, yet an expert would be proud of the finished product. It makes a great gift. The instructor has made many rolling pins and has developed a number of methods to ease the steps and assure a successful finished product. Make a unique project that is both functional and beautiful! NOTE: Age 16 and up - For your safety: no loose fitting clothes\, hair tied back\, comfortable shoes\, and no jewelry. If sensitive to wood dust registration for turning classes is not recommended.
LOCATION:Adirondack Folk School 51 Main Street Lake Luzerne\, NY 12846
UID:e.2254.15257
SEQUENCE:3
DTSTAMP:20260421T081027Z
URL:https://chamber.saratoga.org/events/details/woodturning-french-style-rolling-pin-with-david-salvetti-946-0611-06-11-2016-15257
END:VEVENT

END:VCALENDAR
