BEGIN:VCALENDAR
VERSION:2.0
PRODID:-//ChamberMaster//Event Calendar 2.0//EN
METHOD:PUBLISH
X-PUBLISHED-TTL:P3D
REFRESH-INTERVAL:P3D
CALSCALE:GREGORIAN
BEGIN:VEVENT
DTSTART:20170218T140000Z
DTEND:20170218T170000Z
X-MICROSOFT-CDO-ALLDAYEVENT:FALSE
SUMMARY:Woodlot Management for Forest Owners 101
DESCRIPTION:This entry-level course is intended to introduce private forest owners to strategies for managing their woodlots for wildlife\, timber\, maple syrup\, recreation and many other potential uses. During this class\, participants will learn through hands-on silviculture lessons on campus forestland. Topics include: creating a forest management plan\, forestry best practices\, government grants and assistance\, how to sell your timber and much more. Please dress for the weather and being outside. Pre-registration required call continuing education at 518-743-2238 or email: conted@sunyacc.edu
X-ALT-DESC;FMTTYPE=text/html:This entry-level course is intended to introduce private forest owners to strategies for managing their woodlots for wildlife\, timber\, maple syrup\, recreation and many other potential uses. During this class\, participants will learn through hands-on silviculture lessons on campus forestland. Topics include: creating a forest management plan\, forestry best practices\, government grants and assistance\, how to sell your timber and much more. Please dress for the weather and being outside. Pre-registration required call continuing education at 518-743-2238 or email: conted@sunyacc.edu
LOCATION:Queensbury Campus
UID:e.2254.22444
SEQUENCE:3
DTSTAMP:20260420T102038Z
URL:https://chamber.saratoga.org/events/details/woodlot-management-for-forest-owners-101-22444
END:VEVENT

END:VCALENDAR
