BEGIN:VCALENDAR
VERSION:2.0
PRODID:-//ChamberMaster//Event Calendar 2.0//EN
METHOD:PUBLISH
X-PUBLISHED-TTL:P3D
REFRESH-INTERVAL:P3D
CALSCALE:GREGORIAN
BEGIN:VEVENT
DTSTART:20160407T230000Z
DTEND:20160408T020000Z
X-MICROSOFT-CDO-ALLDAYEVENT:FALSE
SUMMARY:Wood Memorial Handicapping Extravaganza
DESCRIPTION:In conjunction with the Academy of Lifelong Learning at Empire State College\, Parting Glass Racing is hosting a Pre-Derby Handicapping Educational Seminar to prepare everyone for the Derby and the upcoming Saratoga Season.\n\n\nWe will begin the meeting with a "How to" or Handicapping 101 for all the novices out there. This will give you a chance to learn more about handicapping and how to read the Daily Racing Form!\n\n\n\nOur expert handicappers will guide us through the Wood Memorial\, the Santa Anita Derby\, and the Toyota Blue Grass Stakes with their expertise. Come join Parting Glass Racing and the Academy of Lifelong Learning at Empire State College and see who the experts pick.\n\n\n\nRSVP by emailing pgr@partingglassracing.com
X-ALT-DESC;FMTTYPE=text/html:<div>\n<div>In conjunction with the Academy of Lifelong Learning at Empire State College\, Parting Glass Racing is hosting a Pre-Derby Handicapping Educational Seminar to prepare everyone for the Derby and the upcoming Saratoga Season.\n<div><br />\nWe will begin the meeting with a &quot\;How to&rdquo\; or Handicapping 101 for all the novices out there. This will give you a chance to learn more about handicapping and how to read the Daily Racing Form!<br />\n<br />\nOur expert handicappers will guide us through the Wood Memorial\, the Santa Anita Derby\, and the Toyota Blue Grass Stakes with their expertise. Come join Parting Glass Racing and the Academy of Lifelong Learning at Empire State College and see who the experts pick.<br />\n<br />\nRSVP by emailing pgr@partingglassracing.com</div>\n</div>\n</div>\n
LOCATION:The Parting Glass Pub\, 40-42 Lake Ave\, Saratoga Springs\, NY 12866
UID:e.2254.15562
SEQUENCE:3
DTSTAMP:20260421T163716Z
URL:https://chamber.saratoga.org/events/details/wood-memorial-handicapping-extravaganza-04-07-2016-15562
END:VEVENT

END:VCALENDAR
