BEGIN:VCALENDAR
VERSION:2.0
PRODID:-//ChamberMaster//Event Calendar 2.0//EN
METHOD:PUBLISH
X-PUBLISHED-TTL:P3D
REFRESH-INTERVAL:P3D
CALSCALE:GREGORIAN
BEGIN:VEVENT
DTSTART:20150605T220000Z
DTEND:20150606T000000Z
X-MICROSOFT-CDO-ALLDAYEVENT:FALSE
SUMMARY:Women's Self Defense
DESCRIPTION:We are women. We want to be safe when we walk down the street\, when we're going to the store\, in the parking lot. We want to be safe. The truth is that we never know when we will find ourselves in a bad situation\; it's not something you plan to happen. The good news\, ladies\, is that we can be prepared for it.
X-ALT-DESC;FMTTYPE=text/html:We are women. We want to be safe when we walk down the street\, when we&#39\;re going to the store\, in the parking lot. We want to be safe. The truth is that we never know when we will find ourselves in a bad situation\; it&#39\;s not something you plan to happen. The good news\, ladies\, is that we can be prepared for it.
LOCATION:Kelevra Krav Maga Saratoga
UID:e.2254.6664
SEQUENCE:3
DTSTAMP:20260423T073947Z
URL:https://chamber.saratoga.org/events/details/women-s-self-defense-06-05-2015-6664
END:VEVENT

END:VCALENDAR
