BEGIN:VCALENDAR
VERSION:2.0
PRODID:-//ChamberMaster//Event Calendar 2.0//EN
METHOD:PUBLISH
X-PUBLISHED-TTL:P3D
REFRESH-INTERVAL:P3D
CALSCALE:GREGORIAN
BEGIN:VEVENT
DTSTART:20150516T110000Z
DTEND:20150516T190000Z
X-MICROSOFT-CDO-ALLDAYEVENT:FALSE
SUMMARY:Women's Adirondack Nature and Outdoor Photography Workshop with Lesley Dixon
DESCRIPTION:Women's Adirondack Nature and Outdoor Photography Workshop Explore the beautiful scenery of one of America?s great landscapes in the Adirondack Park of Upstate New York during this women?s nature and outdoor photography workshop with professional landscape photographer Lesley Dixon. The spring flowers will be in bloom and students will explore scenic vistas and waterways during the workshop. Participants will learn composition techniques\, advanced camera settings\, depth of field techniques and other fundamentals of outdoor and nature photography. The session will run from 7 a.m. to 3 p.m. and will include photography sessions in both the Lake Luzerne and Lake George area. When: Saturday\, May 16\, 2015\, 7 a.m. to 3 p.m. (RAIN DATE of 5/17) Where: Lake George and Lake Luzerne in the Adirondack Park.  Cost: Early bird discount of $175 before 4/21/15. Normal fee of $195 applies after 4/21/15. For more information or to register visit: www.lesleydixon.com/nature-photography-workshops/
X-ALT-DESC;FMTTYPE=text/html:Women&#39\;s Adirondack Nature and Outdoor Photography Workshop Explore the beautiful scenery of one of America?s great landscapes in the Adirondack Park of Upstate New York during this women?s nature and outdoor photography workshop with professional landscape photographer Lesley Dixon. The spring flowers will be in bloom and students will explore scenic vistas and waterways during the workshop. Participants will learn composition techniques\, advanced camera settings\, depth of field techniques and other fundamentals of outdoor and nature photography. The session will run from 7 a.m. to 3 p.m. and will include photography sessions in both the Lake Luzerne and Lake George area. When: Saturday\, May 16\, 2015\, 7 a.m. to 3 p.m. (RAIN DATE of 5/17) Where: Lake George and Lake Luzerne in the Adirondack Park. &nbsp\;Cost: Early bird discount of $175 before 4/21/15. Normal fee of $195 applies after 4/21/15. For more information or to register visit: www.lesleydixon.com/nature-photography-workshops/
LOCATION:Lake George & Lake Luzerne\, NY
UID:e.2254.7700
SEQUENCE:3
DTSTAMP:20260423T182340Z
URL:https://chamber.saratoga.org/events/details/women-s-adirondack-nature-and-outdoor-photography-workshop-with-lesley-dixon-05-16-2015-7700
END:VEVENT

END:VCALENDAR
