BEGIN:VCALENDAR
VERSION:2.0
PRODID:-//ChamberMaster//Event Calendar 2.0//EN
METHOD:PUBLISH
X-PUBLISHED-TTL:P3D
REFRESH-INTERVAL:P3D
CALSCALE:GREGORIAN
BEGIN:VEVENT
DTSTART:20140814T103000Z
DTEND:20140814T120000Z
X-MICROSOFT-CDO-ALLDAYEVENT:FALSE
SUMMARY:Women in Business Group Breakfast at the Track
DESCRIPTION:A great way to start the day!A fabulous way to start the day - networking with other professional women while watching the horses during their morning work outs. This has become an annual tradition\, come and join us. Cost is $25 cash due the day of the event. Please note: parking is $10\, but refundable if you leave before 10 a.m. Pre-reservation is appreciated. Thank you to Key4Women for sponsoring the 2014 Women in Business Group.
X-ALT-DESC;FMTTYPE=text/html:<p>A great way to start the day!</p><p>A fabulous way to start the day - networking with other professional women while watching the horses during their morning work outs. This has become an annual tradition\, come and join us. Cost is $25 cash due the day of the event. Please note: parking is $10\, but refundable if you leave before 10 a.m. Pre-reservation is appreciated. Thank you to Key4Women for sponsoring the 2014 Women in Business Group.</p>
LOCATION:Saratoga Race Course
UID:e.2254.674
SEQUENCE:3
DTSTAMP:20260424T155855Z
URL:https://chamber.saratoga.org/events/details/women-in-business-group-breakfast-at-the-track-08-14-2014-674
END:VEVENT

END:VCALENDAR
