BEGIN:VCALENDAR
VERSION:2.0
PRODID:-//ChamberMaster//Event Calendar 2.0//EN
METHOD:PUBLISH
X-PUBLISHED-TTL:P3D
REFRESH-INTERVAL:P3D
CALSCALE:GREGORIAN
BEGIN:VEVENT
DTSTART:20151208T140000Z
DTEND:20151208T150000Z
X-MICROSOFT-CDO-ALLDAYEVENT:FALSE
SUMMARY:Women in Business Group
DESCRIPTION:Philanthropy Advisor and Coach Susan Axelrod offers attendees an opportunity to address the most human of concerns:\n\nthe desire to be remembered\, to stay relevant\, and to make an impact in our world.\n\nWith humor\, spirit and inspiration Susan uses The Philanthropy Formula  in this\n\nengaging workshop that helps you reflect personally\, think passionately\, feel inspired and\n\nappreciate deeply the cause\, purpose or organization that matters to you.\n\n\n\nThank you to Key4Women for sponsoring the 2015 Women in Business Group.
X-ALT-DESC;FMTTYPE=text/html:<span style="font-size:14px\;"><span style="font-family:times new roman\;">Philanthropy Advisor and Coach Susan Axelrod offers attendees an opportunity to address the most human of concerns:<br />\nthe desire to be remembered\, to stay relevant\, and to make an impact in our world.<br />\nWith humor\, spirit and inspiration Susan uses The Philanthropy Formula&trade\; in this<br />\nengaging workshop that helps you reflect personally\, think passionately\, feel inspired and<br />\nappreciate deeply the cause\, purpose or organization that matters to you.<br />\n<br />\nThank you to Key4Women for sponsoring the 2015 Women in Business Group.</span></span>
LOCATION:Saratoga County Chamber Offices 28 Clinton Street Saratoga Springs
UID:e.2254.13073
SEQUENCE:3
DTSTAMP:20260422T103902Z
URL:https://chamber.saratoga.org/events/details/women-in-business-group-12-08-2015-13073
END:VEVENT

END:VCALENDAR
