BEGIN:VCALENDAR
VERSION:2.0
PRODID:-//ChamberMaster//Event Calendar 2.0//EN
METHOD:PUBLISH
X-PUBLISHED-TTL:P3D
REFRESH-INTERVAL:P3D
CALSCALE:GREGORIAN
BEGIN:VEVENT
DTSTART:20151110T140000Z
DTEND:20151110T150000Z
X-MICROSOFT-CDO-ALLDAYEVENT:FALSE
SUMMARY:Women in Business Group
DESCRIPTION:Everyday Courage\n\nKaren Carey\n\n \n\nEmotions are powerful drivers toward avoiding uncomfortable situations. In reality\, when we stop avoiding\, embrace our feelings\, and accept what is\, we get to have a happy\, healthy and productive life. With so many distractions it can be easy to eat\, overwork and grumble our way through. It takes courage to feel and change what we are doing\, and how we are thinking.\n\n\n\nLet's talk about the things that are getting in the way of you moving forward toward your best life. Learn some science\, everyday tools and have a laugh  \n\n\n\nThank you to Key4Women for sponsoring the 2015 Women in Business Group.
X-ALT-DESC;FMTTYPE=text/html:Everyday Courage<br />\nKaren Carey<br />\n&nbsp\;<br />\nEmotions are powerful drivers toward avoiding uncomfortable situations. In reality\, when we stop avoiding\, embrace our feelings\, and accept what is\, we get to have a happy\, healthy and productive life. With so many distractions it can be easy to eat\, overwork and grumble our way through. It takes courage to feel and change what we are doing\, and how we are thinking.<br />\n<br />\nLet&rsquo\;s talk about the things that are getting in the way of you moving forward toward your best life. Learn some science\, everyday tools and have a laugh&hellip\;&nbsp\;<br />\n<br />\nThank you to Key4Women for sponsoring the 2015 Women in Business Group.
LOCATION:Saratoga County Chamber Offices 28 Clinton Street Saratoga Springs
UID:e.2254.12776
SEQUENCE:3
DTSTAMP:20260422T103949Z
URL:https://chamber.saratoga.org/events/details/women-in-business-group-11-10-2015-12776
END:VEVENT

END:VCALENDAR
