BEGIN:VCALENDAR
VERSION:2.0
PRODID:-//ChamberMaster//Event Calendar 2.0//EN
METHOD:PUBLISH
X-PUBLISHED-TTL:P3D
REFRESH-INTERVAL:P3D
CALSCALE:GREGORIAN
BEGIN:VEVENT
DTSTART:20141104T140000Z
DTEND:20141104T150000Z
X-MICROSOFT-CDO-ALLDAYEVENT:FALSE
SUMMARY:Women in Business Group
DESCRIPTION:Feel overwhelmed\, overworked and like you're selling your soul for the sake of others? Join Karen Carey from Ruby Red Road to learn how you can overcome these challengesFeel overwhelmed\, overworked and like you're selling your soul for the sake of others? Join us for an interactive program on what causes these challenges\, how to get your power back and lead a more authentic and fulfilling life. Thank you to Key4Women for sponsoring the 2014 Women in Business Group.
X-ALT-DESC;FMTTYPE=text/html:<p>Feel overwhelmed\, overworked and like you're selling your soul for the sake of others? Join Karen Carey from Ruby Red Road to learn how you can overcome these challenges</p><p><span style="font-size: small\; font-family: arial\,helvetica\,sans-serif\;">Feel overwhelmed\, overworked and like you're selling your soul for the sake of others? Join us for an interactive program on what causes these challenges\, how to get your power back and lead a more authentic and fulfilling life.&nbsp\;<span style="color: black\;">Thank you to Key4Women for sponsoring the 2014 Women in Business Group.</span></span></p>
LOCATION:Holiday Inn
UID:e.2254.672
SEQUENCE:3
DTSTAMP:20260424T083000Z
URL:https://chamber.saratoga.org/events/details/women-in-business-group-11-04-2014-672
END:VEVENT

END:VCALENDAR
