BEGIN:VCALENDAR
VERSION:2.0
PRODID:-//ChamberMaster//Event Calendar 2.0//EN
METHOD:PUBLISH
X-PUBLISHED-TTL:P3D
REFRESH-INTERVAL:P3D
CALSCALE:GREGORIAN
BEGIN:VEVENT
DTSTART:20141014T120000Z
DTEND:20141014T130000Z
X-MICROSOFT-CDO-ALLDAYEVENT:FALSE
SUMMARY:Women in Business Group
DESCRIPTION:An Hour to Empower *PLEASE NOTE THE VENUE CHANGE*Are you trying to be healthier? Are you wondering where to start? Do you have a plan? We will spend an hour together to share and discuss what our health and food habits are\, what we can change\, and how we can make those changes. We can empower each other to start making those changes with a little inspiration and a plan!
X-ALT-DESC;FMTTYPE=text/html:<p>An Hour to Empower *PLEASE NOTE THE VENUE CHANGE*</p><p>Are you trying to be healthier? Are you wondering where to start? Do you have a plan? We will spend an hour together to share and discuss what our health and food habits are\, what we can change\, and how we can make those changes. We can empower each other to start making those changes with a little inspiration and a plan!</p>
LOCATION:Wheatfields Restaurant
UID:e.2254.671
SEQUENCE:3
DTSTAMP:20260424T093551Z
URL:https://chamber.saratoga.org/events/details/women-in-business-group-10-14-2014-671
END:VEVENT

END:VCALENDAR
