BEGIN:VCALENDAR
VERSION:2.0
PRODID:-//ChamberMaster//Event Calendar 2.0//EN
METHOD:PUBLISH
X-PUBLISHED-TTL:P3D
REFRESH-INTERVAL:P3D
CALSCALE:GREGORIAN
BEGIN:VEVENT
DTSTART:20140909T120000Z
DTEND:20140909T130000Z
X-MICROSOFT-CDO-ALLDAYEVENT:FALSE
SUMMARY:Women in Business Group
DESCRIPTION:Looking ForwardHaving a forum to discuss challenges\, best practices and other ideas with other women can be an inspiring and powerful opportunity. Any female member of the Chamber is welcome to participate in this group. Join us as we discuss some of these topics and flush out interests and subjects for discussion for this group going forward. Thank you to Key 4 Womenfor sponsoring the 2014Women's Business Group
X-ALT-DESC;FMTTYPE=text/html:<p>Looking Forward</p><p>Having a forum to discuss challenges\, best practices and other ideas with other women can be an inspiring and powerful opportunity. Any female member of the Chamber is welcome to participate in this group. Join us as we discuss some of these topics and flush out interests and subjects for discussion for this group going forward. Thank you to Key 4 Womenfor sponsoring the 2014Women&rsquo\;s Business Group</p>
LOCATION:Saratoga County Chamber Offices
UID:e.2254.664
SEQUENCE:3
DTSTAMP:20260424T110848Z
URL:https://chamber.saratoga.org/events/details/women-in-business-group-09-09-2014-664
END:VEVENT

END:VCALENDAR
