BEGIN:VCALENDAR
VERSION:2.0
PRODID:-//ChamberMaster//Event Calendar 2.0//EN
METHOD:PUBLISH
X-PUBLISHED-TTL:P3D
REFRESH-INTERVAL:P3D
CALSCALE:GREGORIAN
BEGIN:VEVENT
DTSTART:20150714T130000Z
DTEND:20150714T140000Z
X-MICROSOFT-CDO-ALLDAYEVENT:FALSE
SUMMARY:Women in Business Group
DESCRIPTION:If you write emails\, post on Facebook\, Tweet or generate any material for your company\, then you're creating media. How do you portray women? Christine Dixon\, Director of Media Development at LOOK TV\, will facilitate this second discussion about how women are portrayed in media.\n\nThis time we'll focus on the messages you create.\n\n\n\nThank you to Key4Women for sponsoring\n\nthe 2015 Women's Business Group.
X-ALT-DESC;FMTTYPE=text/html:<p>If you write emails\, post on Facebook\, Tweet or generate any material for your company\, then you&rsquo\;re creating media. How do you portray women? Christine Dixon\, Director of Media Development at LOOK TV\, will facilitate this second discussion about how women are portrayed in media.</p>\n\n<p>This time we&rsquo\;ll focus on&nbsp\;the messages you create.<br />\n<br />\nThank you to Key4Women for sponsoring<br />\nthe 2015 Women&rsquo\;s Business Group.</p>\n
LOCATION:Saratoga County Chamber Offices 28 Clinton Street Saratoga Springs
UID:e.2254.9680
SEQUENCE:3
DTSTAMP:20260423T041130Z
URL:https://chamber.saratoga.org/events/details/women-in-business-group-07-14-2015-9680
END:VEVENT

END:VCALENDAR
