BEGIN:VCALENDAR
VERSION:2.0
PRODID:-//ChamberMaster//Event Calendar 2.0//EN
METHOD:PUBLISH
X-PUBLISHED-TTL:P3D
REFRESH-INTERVAL:P3D
CALSCALE:GREGORIAN
BEGIN:VEVENT
DTSTART:20150512T130000Z
DTEND:20150512T140000Z
X-MICROSOFT-CDO-ALLDAYEVENT:FALSE
SUMMARY:Women in Business Group
DESCRIPTION:We are bombarded with images of women in the media through television\, magazines and other printed materials and online. Chris Dixon of Look TV will lead an interactive discussion of reflection and projections - how much of these images do we take on\, even without realizing it and what are we projecting about ourselves to others. Thank you to Key4Women for sponsoring the 2015 Women in Business Group.
X-ALT-DESC;FMTTYPE=text/html:We are bombarded with images of women in the media through television\, magazines and other printed materials and online. Chris Dixon of Look TV will lead an interactive discussion of reflection and projections - how much of these images do we take on\, even without realizing it and what are we projecting about ourselves to others. Thank you to Key4Women for sponsoring the 2015 Women in Business Group.
LOCATION:Saratoga County Chamber Offices 28 Clinton Street Saratoga Springs\, NY 12866
UID:e.2254.7650
SEQUENCE:3
DTSTAMP:20260423T163902Z
URL:https://chamber.saratoga.org/events/details/women-in-business-group-05-12-2015-7650
END:VEVENT

END:VCALENDAR
