BEGIN:VCALENDAR
VERSION:2.0
PRODID:-//ChamberMaster//Event Calendar 2.0//EN
METHOD:PUBLISH
X-PUBLISHED-TTL:P3D
REFRESH-INTERVAL:P3D
CALSCALE:GREGORIAN
BEGIN:VEVENT
DTSTART:20160510T130000Z
DTEND:20160510T140000Z
X-MICROSOFT-CDO-ALLDAYEVENT:FALSE
SUMMARY:Women in Business Group
DESCRIPTION:Estate Planning   What Women Should Know\n\n \n\nIt is an old wives tale that if you do a will that you will die (not true).  Unfortunately\, if you do not prepare an estate plan you are leaving a lot to chance.  Without proper estate planning documents the state of New York will decide who receives your assets and who will be in charge of your minor children.   Estate planning does not have to be boring or scary.  Join me as we analyze your favorite TV shows such as Growing Pains\, The Golden Girls and Full House to see how we can prepare an estate plan based on the characters of TV shows. Thank you to Key4Women for sponsoring the 2016 Women in Business Group.
X-ALT-DESC;FMTTYPE=text/html:Estate Planning &ndash\; What Women Should Know<br />\n&nbsp\;<br />\nIt is an old wives tale that if you do a will that you will die (not true).&nbsp\; Unfortunately\, if you do not prepare an estate plan you are leaving a lot to chance.&nbsp\; Without proper estate planning documents the state of New York will decide who receives your assets and who will be in charge of your minor children.&nbsp\; &nbsp\;Estate planning does not have to be boring or scary.&nbsp\; Join me as we analyze your favorite TV shows such as Growing Pains\, The Golden Girls and Full House to see how we can prepare an estate plan based on the characters of TV shows. Thank you to Key4Women for sponsoring the 2016 Women in Business Group.
LOCATION:Saratoga County Chamber Offices 28 Clinton Street Saratoga Springs
UID:e.2254.16461
SEQUENCE:3
DTSTAMP:20260421T160535Z
URL:https://chamber.saratoga.org/events/details/women-in-business-group-05-10-2016-16461
END:VEVENT

END:VCALENDAR
