BEGIN:VCALENDAR
VERSION:2.0
PRODID:-//ChamberMaster//Event Calendar 2.0//EN
METHOD:PUBLISH
X-PUBLISHED-TTL:P3D
REFRESH-INTERVAL:P3D
CALSCALE:GREGORIAN
BEGIN:VEVENT
DTSTART:20150414T130000Z
DTEND:20150414T140000Z
X-MICROSOFT-CDO-ALLDAYEVENT:FALSE
SUMMARY:Women in Business Group
DESCRIPTION:Come hear Kathy Johnson MS Ed of Pyramid of Potential speak about how to improve memory at any age. In the past 14 years Kathy has helped children and adults with learning disabilities\, ADHD\, and other brain related issues improve functioning and achieve. By the end of the hour you will walk away with 3 fun proven exercises! Thank you to Key4Women for sponsoring the 2015 Women in Business Group
X-ALT-DESC;FMTTYPE=text/html:Come hear Kathy Johnson MS Ed of Pyramid of Potential speak about how to improve memory at any age. In the past 14 years Kathy has helped children and adults with learning disabilities\, ADHD\, and other brain related issues improve functioning and achieve. By the end of the hour you will walk away with 3 fun proven exercises! Thank you to Key4Women for sponsoring the 2015 Women in Business Group
LOCATION:Saratoga County Chamber Offices 28 Clinton Street Saratoga Springs
UID:e.2254.6941
SEQUENCE:3
DTSTAMP:20260423T214358Z
URL:https://chamber.saratoga.org/events/details/women-in-business-group-04-14-2015-6941
END:VEVENT

END:VCALENDAR
