BEGIN:VCALENDAR
VERSION:2.0
PRODID:-//ChamberMaster//Event Calendar 2.0//EN
METHOD:PUBLISH
X-PUBLISHED-TTL:P3D
REFRESH-INTERVAL:P3D
CALSCALE:GREGORIAN
BEGIN:VEVENT
DTSTART:20160412T130000Z
DTEND:20160413T020000Z
X-MICROSOFT-CDO-ALLDAYEVENT:FALSE
SUMMARY:Women in Business Group
DESCRIPTION:The Women's Business Group is open to all female members of Chamber member organizations. Monthly meetings are facilitated conversations around a variety of topics\, impacting both personal and professional\n\nfacets of life. These meetings are also a great way to connect with other members of the Chamber. There is no charge to attend these events. Thank you to Key4Women for sponsoring the 2016 Women in Business Group.
X-ALT-DESC;FMTTYPE=text/html:The Women&rsquo\;s Business Group is open to all female members of Chamber member organizations. Monthly meetings are facilitated conversations around a variety of topics\, impacting both personal and professional<br />\nfacets of life. These meetings are also a great way to connect with other members of the Chamber. There is no charge to attend these events. Thank you to Key4Women for sponsoring the 2016 Women in Business Group.
LOCATION:Saratoga County Chamber of Commerce 28 Clinton Street Saratoga Springs
UID:e.2254.16064
SEQUENCE:3
DTSTAMP:20260421T163933Z
URL:https://chamber.saratoga.org/events/details/women-in-business-group-04-12-2016-16064
END:VEVENT

END:VCALENDAR
