BEGIN:VCALENDAR
VERSION:2.0
PRODID:-//ChamberMaster//Event Calendar 2.0//EN
METHOD:PUBLISH
X-PUBLISHED-TTL:P3D
REFRESH-INTERVAL:P3D
CALSCALE:GREGORIAN
BEGIN:VEVENT
DTSTART:20150310T130000Z
DTEND:20150310T140000Z
X-MICROSOFT-CDO-ALLDAYEVENT:FALSE
SUMMARY:Women in Business Group
DESCRIPTION:Firing Clients!\n\nWhat drives our businesses? Clients\n\nWhat makes daily operations challenging for staff? Clients\n\nWhat brings in income? Clients\n\nWhat keeps us up at night? Clients\n\n \n\nHow and when can you fire them?\n\nJoin the Women's Business Group for a lively discussion about one of our most challenging business variables.\n\n \n\nThank you to Key 4 Women for sponsoring the 2015 Women's Business Group.
X-ALT-DESC;FMTTYPE=text/html:<strong><span style="color:blue\;"><span style="font-family:tahoma\,sans-serif\;"><span style="font-size:14.0pt\;">Firing Clients!</span></span></span></strong><br />\n<span style="color:black\;"><span style="font-family:tahoma\,sans-serif\;">What drives our businesses? Clients</span></span><br />\n<span style="color:black\;"><span style="font-family:tahoma\,sans-serif\;">What makes daily operations challenging for staff? Clients</span></span><br />\n<span style="color:black\;"><span style="font-family:tahoma\,sans-serif\;">What brings in income? Clients</span></span><br />\n<span style="color:black\;"><span style="font-family:tahoma\,sans-serif\;">What keeps us up at night? Clients</span></span><br />\n&nbsp\;<br />\n<span style="color:black\;"><span style="font-family:tahoma\,sans-serif\;">How and when can you fire them?</span></span><br />\n<span style="color:black\;"><span style="font-family:tahoma\,sans-serif\;">Join the Women&#39\;s Business Group for a lively discussion about one of our most challenging business variables.</span></span><br />\n&nbsp\;<br />\n<span style="color:black\;"><span style="font-family:tahoma\,sans-serif\;">Thank you to Key 4 Women for sponsoring the 2015 Women&#39\;s Business Group.</span></span>
LOCATION:Excelsior Springs 47 Excelsior Avenue Saratoga Springs
UID:e.2254.4988
SEQUENCE:3
DTSTAMP:20260423T214317Z
URL:https://chamber.saratoga.org/events/details/women-in-business-group-03-10-2015-4988
END:VEVENT

END:VCALENDAR
