BEGIN:VCALENDAR
VERSION:2.0
PRODID:-//ChamberMaster//Event Calendar 2.0//EN
METHOD:PUBLISH
X-PUBLISHED-TTL:P3D
REFRESH-INTERVAL:P3D
CALSCALE:GREGORIAN
BEGIN:VEVENT
DTSTART:20150113T140000Z
DTEND:20150113T150000Z
X-MICROSOFT-CDO-ALLDAYEVENT:FALSE
SUMMARY:Women in Business Group
DESCRIPTION:How we view any situation\, challenge\, relationship or communication is filtered through our own perspectives. This can sometimes create challenges when working with other people. Recognizing our own perspectives and\n\nrealizing how to see others makes the difference. Join us for an interactive workshop and discussion. Thank you to Key4Women for sponsoring the 2015 Women in Business Group.
X-ALT-DESC;FMTTYPE=text/html:<p _mce_style="color: #000000\; margin-top: 0px\; margin-bottom: 0px\;" style="margin-top: 0px\; margin-bottom: 0px\; font-family: Arial\, Helvetica\, sans-serif\; line-height: normal\; color: rgb(0\, 0\, 0)\;">How we view any situation\, challenge\, relationship or communication is filtered through our own&nbsp\;perspectives. This can sometimes create challenges when working with other people. Recognizing our own perspectives and</p>\n\n<p _mce_style="color: #000000\; margin-top: 0px\; margin-bottom: 0px\;" style="margin-top: 0px\; margin-bottom: 0px\; font-family: Arial\, Helvetica\, sans-serif\; line-height: normal\; color: rgb(0\, 0\, 0)\;">realizing how to see others makes the difference. Join us for an interactive workshop and discussion. Thank you to Key4Women for sponsoring the 2015 Women in Business Group.</p>\n
LOCATION:Saratoga County Chamber Offices 28 Clinton Street Saratoga Springs\, NY 12866
UID:e.2254.811
SEQUENCE:3
DTSTAMP:20260424T015044Z
URL:https://chamber.saratoga.org/events/details/women-in-business-group-01-13-2015-811
END:VEVENT

END:VCALENDAR
