BEGIN:VCALENDAR
VERSION:2.0
PRODID:-//ChamberMaster//Event Calendar 2.0//EN
METHOD:PUBLISH
X-PUBLISHED-TTL:P3D
REFRESH-INTERVAL:P3D
CALSCALE:GREGORIAN
BEGIN:VEVENT
DTSTART:20150308T130000Z
DTEND:20150308T200000Z
X-MICROSOFT-CDO-ALLDAYEVENT:FALSE
SUMMARY:Women Empower! Expo
DESCRIPTION:Women Empower!! will be a fabulously fun event for women combining a unique shopping experience with beneficial and empowering workshops to meet the needs of a variety of women.
X-ALT-DESC;FMTTYPE=text/html:Women Empower!! will be a fabulously fun event for women combining a unique shopping experience with beneficial and empowering workshops to meet the needs of a variety of women.
LOCATION:Knights of Columbus
UID:e.2254.6148
SEQUENCE:3
DTSTAMP:20260423T214147Z
URL:https://chamber.saratoga.org/events/details/women-empower-expo-03-08-2015-6148
END:VEVENT

END:VCALENDAR
