BEGIN:VCALENDAR
VERSION:2.0
PRODID:-//ChamberMaster//Event Calendar 2.0//EN
METHOD:PUBLISH
X-PUBLISHED-TTL:P3D
REFRESH-INTERVAL:P3D
CALSCALE:GREGORIAN
BEGIN:VEVENT
DTSTART:20160304T000000Z
DTEND:20160304T000000Z
X-MICROSOFT-CDO-ALLDAYEVENT:FALSE
SUMMARY:WMHT Will Present Charles R. Wood Documentary
DESCRIPTION:Charles Wood was a revolutionary businessman and philanthropist who not only changed how families in upstate New York enjoyed their time together\, but many say that he inspired theme parks around the world as we know them today. Join WMHT and The Hyde on Thursday\, March 3\, for a special early screening of the new documentary on Charles R. Wood.
X-ALT-DESC;FMTTYPE=text/html:Charles Wood was a revolutionary businessman and philanthropist who not only changed how families in upstate New York enjoyed their time together\, but many say that he inspired theme parks around the world as we know them today. Join WMHT and The Hyde on Thursday\, March 3\, for a special early screening of the new documentary on Charles R. Wood.
LOCATION:Helen Froehlich Auditorium at The Hyde Collection
UID:e.2254.14867
SEQUENCE:3
DTSTAMP:20260422T003315Z
URL:https://chamber.saratoga.org/events/details/wmht-will-present-charles-r-wood-documentary-03-03-2016-14867
END:VEVENT

END:VCALENDAR
