BEGIN:VCALENDAR
VERSION:2.0
PRODID:-//ChamberMaster//Event Calendar 2.0//EN
METHOD:PUBLISH
X-PUBLISHED-TTL:P3D
REFRESH-INTERVAL:P3D
CALSCALE:GREGORIAN
BEGIN:VEVENT
DTSTART:20160207T150000Z
DTEND:20160207T190000Z
X-MICROSOFT-CDO-ALLDAYEVENT:FALSE
SUMMARY:Winterfest
DESCRIPTION:Join us outside for a day of snowy fun! Snowshoes and Cross Country Skis will be available for rental from the Information Cabin in Parking Lot #1. Rentals are $5.00 per pair for use during the event. After stepping out on the trails\, there will be a bonfire at the old Scout Camp's Council Fire circle where participants can warm up by the bonfire with hot cocoa and s'mores. No registration is necessary for this drop-in\, free event.
X-ALT-DESC;FMTTYPE=text/html:Join us outside for a day of snowy fun! Snowshoes and Cross Country Skis will be available for rental from the Information Cabin in Parking Lot #1. Rentals are $5.00 per pair for use during the event. After stepping out on the trails\, there will be a bonfire at the old Scout Camp&#39\;s Council Fire circle where participants can warm up by the bonfire with hot cocoa and s&#39\;mores. No registration is necessary for this drop-in\, free event.
LOCATION:Camp Saratoga\, Parking Lot 1 Scout Rd Gansevoort\, NY 12831
UID:e.2254.13182
SEQUENCE:3
DTSTAMP:20260422T022104Z
URL:https://chamber.saratoga.org/events/details/winterfest-02-07-2016-13182
END:VEVENT

END:VCALENDAR
