BEGIN:VCALENDAR
VERSION:2.0
PRODID:-//ChamberMaster//Event Calendar 2.0//EN
METHOD:PUBLISH
X-PUBLISHED-TTL:P3D
REFRESH-INTERVAL:P3D
CALSCALE:GREGORIAN
BEGIN:VEVENT
DTSTART:20150225T233000Z
DTEND:20150226T020000Z
X-MICROSOFT-CDO-ALLDAYEVENT:FALSE
SUMMARY:Winter in Sicily Wine Dinner
DESCRIPTION:Italy is not just the land of the sun "Paese del Sole"\, but also a generous winter land with special treats and warm foods which help the soul to withstand the darkest season. Forno Bistro Chef Ryan McCormick will take you on a tour through Sicily in winter with an authentic 4-course dinner complemented with Italian wine pairings.
X-ALT-DESC;FMTTYPE=text/html:Italy is not just the land of the sun &quot\;Paese del Sole&quot\;\, but also a generous winter land with special treats and warm foods which help the soul to withstand the darkest season. Forno Bistro Chef Ryan McCormick will take you on a tour through Sicily in winter with an authentic 4-course dinner complemented with Italian wine pairings.
LOCATION:Forno Bistro 541 Broadway Saratoga Springs
UID:e.2254.4986
SEQUENCE:3
DTSTAMP:20260424T003440Z
URL:https://chamber.saratoga.org/events/details/winter-in-sicily-wine-dinner-02-25-2015-4986
END:VEVENT

END:VCALENDAR
