BEGIN:VCALENDAR
VERSION:2.0
PRODID:-//ChamberMaster//Event Calendar 2.0//EN
METHOD:PUBLISH
X-PUBLISHED-TTL:P3D
REFRESH-INTERVAL:P3D
CALSCALE:GREGORIAN
BEGIN:VEVENT
DTSTART:20140817T140000Z
DTEND:20140817T190000Z
X-MICROSOFT-CDO-ALLDAYEVENT:FALSE
SUMMARY:Wins 4 Kids - 08/17/2014
DESCRIPTION:It is "on the rail" expereince that helps raise money for children with special needs!Enjoy a fun and exciting afternoon of horse racing while also enjoying an open bar\, delicious food\, silent auctions\, networking opportunities\, and more! It is "on the rail" expereince that helps raise money for children with special needs!\nWins 4 Kids is happening on August 17th at the Saratoga Race Track from 12:00pm to 5:30pm. To purchase tickets\, please call Brenda 518-728-8813 or visit www.eastersealsny.org.\nAll proceeds stay locally in the Capital District through our Camp Colonie summer program. Camp Colonie is a six week summer camp for youths 5-21 with developmental\, emotional\, and physical disabilities. Camp Colonie is a "school without walls" program where children can meet their IEP goals and continue making social progress for their following school year.
X-ALT-DESC;FMTTYPE=text/html:<p>It is "on the rail" expereince that helps raise money for children with special needs!</p><p>Enjoy a fun and exciting afternoon of horse racing while also enjoying an open bar\, delicious food\, silent auctions\, networking opportunities\, and more! It is "on the rail" expereince that helps raise money for children with special needs!</p>\n<p>Wins 4 Kids is happening on August 17th at the Saratoga Race Track from 12:00pm to 5:30pm. To purchase tickets\, please call Brenda 518-728-8813 or visit <a href="http://www.eastersealsny.org">www.eastersealsny.org</a>.</p>\n<p>All proceeds stay locally in the Capital District through our Camp Colonie summer program. Camp Colonie is a six week summer camp for youths 5-21 with developmental\, emotional\, and physical disabilities. Camp Colonie is a "school without walls" program where children can meet their IEP goals and continue making social progress for their following school year.</p>
LOCATION:Saratoga Race Track
UID:e.2254.3500
SEQUENCE:3
DTSTAMP:20260424T140014Z
URL:https://chamber.saratoga.org/events/details/wins-4-kids-08-17-2014-08-17-2014-3500
END:VEVENT

END:VCALENDAR
