BEGIN:VCALENDAR
VERSION:2.0
PRODID:-//ChamberMaster//Event Calendar 2.0//EN
METHOD:PUBLISH
X-PUBLISHED-TTL:P3D
REFRESH-INTERVAL:P3D
CALSCALE:GREGORIAN
BEGIN:VEVENT
DTSTART:20170219T000000Z
DTEND:20170219T030000Z
X-MICROSOFT-CDO-ALLDAYEVENT:FALSE
SUMMARY:Wine and Dinner Pairing Series
DESCRIPTION:Join us in the Diamond Club Grill for a Wine and 4 Course Dinner Pairing. This month is BUBBLES featuring Perrier-Jouet and Mumm.
X-ALT-DESC;FMTTYPE=text/html:Join us in the Diamond Club Grill for a Wine and 4 Course Dinner Pairing. This month is BUBBLES featuring Perrier-Jouet and Mumm.
LOCATION:The Diamond Club Grill located at 86 Congress Street- Saratoga Springs\, NY 12866
UID:e.2254.22775
SEQUENCE:3
DTSTAMP:20260420T101126Z
URL:https://chamber.saratoga.org/events/details/wine-and-dinner-pairing-series-22775
END:VEVENT

END:VCALENDAR
