BEGIN:VCALENDAR
VERSION:2.0
PRODID:-//ChamberMaster//Event Calendar 2.0//EN
METHOD:PUBLISH
X-PUBLISHED-TTL:P3D
REFRESH-INTERVAL:P3D
CALSCALE:GREGORIAN
BEGIN:VEVENT
DTSTART;VALUE=DATE:20150727
DTEND;VALUE=DATE:20150803
TRANSP:TRANSPARENT
X-MICROSOFT-CDO-ALLDAYEVENT:TRUE
SUMMARY:Wine and Cheese Week -Upper Hudson Valley Wine Trail
DESCRIPTION:Wineries on the Upper Hudson Valley Wine Trail are collaborating with local cheese makers to bring you Wine & Cheese Week on Monday\, July 27 through Sunday\, August 2\, 2015. Tour the Upper Hudson Valley Wine Trail and enjoy a specialty wine and cheese pairing at each stop! Member wineries will offer tastings of their locally hand-crafted wines paired with locally made cheeses at each of their Winery Tasting Rooms all week long! Your $25.00 Wine Trail Event Ticket gets you: 3 Tastes of local wine AND 3 Samples of well-paired local cheeses at each of our twelve participating winery locations. Go with a friend and save! Purchase 2 tickets for just $40.00
X-ALT-DESC;FMTTYPE=text/html:Wineries on the Upper Hudson Valley Wine Trail are collaborating with local cheese makers to bring you Wine &amp\; Cheese Week on Monday\, July 27 through Sunday\, August 2\, 2015. Tour the Upper Hudson Valley Wine Trail and enjoy a specialty wine and cheese pairing at each stop! Member wineries will offer tastings of their locally hand-crafted wines paired with locally made cheeses at each of their Winery Tasting Rooms all week long! Your $25.00 Wine Trail Event Ticket gets you: 3 Tastes of local wine AND 3 Samples of well-paired local cheeses at each of our twelve participating winery locations. Go with a friend and save! Purchase 2 tickets for just $40.00
LOCATION:Upper Hudson Valley Wine Trail
UID:e.2254.10153
SEQUENCE:3
DTSTAMP:20260423T023904Z
URL:https://chamber.saratoga.org/events/details/wine-and-cheese-week-upper-hudson-valley-wine-trail-07-27-2015-10153
END:VEVENT

END:VCALENDAR
