BEGIN:VCALENDAR
VERSION:2.0
PRODID:-//ChamberMaster//Event Calendar 2.0//EN
METHOD:PUBLISH
X-PUBLISHED-TTL:P3D
REFRESH-INTERVAL:P3D
CALSCALE:GREGORIAN
BEGIN:VEVENT
DTSTART:20170205T150000Z
DTEND:20170205T190000Z
X-MICROSOFT-CDO-ALLDAYEVENT:FALSE
SUMMARY:Wilton Wildlife Winter Fest
DESCRIPTION:Join us outside for a day of snowy fun! Snowshoes and Cross Country Skis will be available for rental from the Information Cabin in Parking Lot #1. Rentals are $5. There will be a bonfire at the old Scout Camp's Council Fire circle where participants can warm up by the bonfire with hot cocoa and s'mores. No registration is necessary.
X-ALT-DESC;FMTTYPE=text/html:Join us outside for a day of snowy fun! Snowshoes and Cross Country Skis will be available for rental from the Information Cabin in Parking Lot #1. Rentals are $5. There will be a bonfire at the old Scout Camp&rsquo\;s Council Fire circle where participants can warm up by the bonfire with hot cocoa and s&rsquo\;mores. No registration is necessary.
LOCATION:Camp Saratoga on Scout Road\, Parking Lot 1
UID:e.2254.21400
SEQUENCE:3
DTSTAMP:20260420T101957Z
URL:https://chamber.saratoga.org/events/details/wilton-wildlife-winter-fest-21400
END:VEVENT

END:VCALENDAR
