BEGIN:VCALENDAR
VERSION:2.0
PRODID:-//ChamberMaster//Event Calendar 2.0//EN
METHOD:PUBLISH
X-PUBLISHED-TTL:P3D
REFRESH-INTERVAL:P3D
CALSCALE:GREGORIAN
BEGIN:VEVENT
DTSTART:20140816T150000Z
DTEND:20140816T170000Z
X-MICROSOFT-CDO-ALLDAYEVENT:FALSE
SUMMARY:Wilton Mall Kids Club with Catseye: All About Bugs! - 08/16/2014
DESCRIPTION:Have fun learning about bugs with Catseye Pest Control!Learn all about bugs with Catseye! Activities include making your own spoon bug friend and learning how to be an entomologist (aka bug expert). You can also hang out with our lovable orange superhero\, Caddie the Catseye Cat\, and pick up some cool Catseye gear. \n\nThe Children's Museum of Saratoga will be on site with a variety of crafts and activities all about bugs. B95.5 and Chad O'Hara will also be at Kids Club with fun music and games to get the kids moving! \n\n**The Wilton Mall Kids Club is every third Saturday of the month\, 1pm-3pm\, in the Food Court. Every month is a different theme so bring the kids out all year long to enjoy them all!
X-ALT-DESC;FMTTYPE=text/html:<p>Have fun learning about bugs with Catseye Pest Control!</p>Learn all about bugs with Catseye! Activities include making your own spoon bug friend and learning how to be an entomologist (aka bug expert). You can also hang out with our lovable orange superhero\, Caddie the Catseye Cat\, and pick up some cool Catseye gear. <br><br>The Children's Museum of Saratoga will be on site with a variety of crafts and activities all about bugs. B95.5 and Chad O'Hara will also be at Kids Club with fun music and games to get the kids moving! <br><br>**The Wilton Mall Kids Club is every third Saturday of the month\, 1pm-3pm\, in the Food Court. Every month is a different theme so bring the kids out all year long to enjoy them all!
LOCATION:Wilton Mall at Saratoga
UID:e.2254.3486
SEQUENCE:3
DTSTAMP:20260424T160117Z
URL:https://chamber.saratoga.org/events/details/wilton-mall-kids-club-with-catseye-all-about-bugs-08-16-2014-08-16-2014-3486
END:VEVENT

END:VCALENDAR
