BEGIN:VCALENDAR
VERSION:2.0
PRODID:-//ChamberMaster//Event Calendar 2.0//EN
METHOD:PUBLISH
X-PUBLISHED-TTL:P3D
REFRESH-INTERVAL:P3D
CALSCALE:GREGORIAN
BEGIN:VEVENT
DTSTART:20170203T183000Z
DTEND:20170203T200000Z
X-MICROSOFT-CDO-ALLDAYEVENT:FALSE
SUMMARY:Wills\, Trusts and Long-Term Care
DESCRIPTION:Join Debra Verni from Herzog Law Firm\, Bryan Johnson from NY Long Term Care Brokers and Charles Joseph from Janney\, Montgomery\, Scott LLC as they speak on these topics. Following their presentation\, they will be available to meet with you individually for questions.
X-ALT-DESC;FMTTYPE=text/html:Join Debra Verni from Herzog Law Firm\, Bryan Johnson from NY Long Term Care Brokers and Charles Joseph from Janney\, Montgomery\, Scott LLC as they speak on these topics. Following their presentation\, they will be available to meet with you individually for questions.
LOCATION:The Adult and Senior Center of Saratoga 5 Williams Street Saratoga Springs\, NY 12866
UID:e.2254.22408
SEQUENCE:3
DTSTAMP:20260420T101913Z
URL:https://chamber.saratoga.org/events/details/wills-trusts-and-long-term-care-22408
END:VEVENT

END:VCALENDAR
