BEGIN:VCALENDAR
VERSION:2.0
PRODID:-//ChamberMaster//Event Calendar 2.0//EN
METHOD:PUBLISH
X-PUBLISHED-TTL:P3D
REFRESH-INTERVAL:P3D
CALSCALE:GREGORIAN
BEGIN:VEVENT
DTSTART:20161016T200000Z
DTEND:20161016T230000Z
X-MICROSOFT-CDO-ALLDAYEVENT:FALSE
SUMMARY:Wild About Blue
DESCRIPTION:Please join us at our 20th Anniversary Celebration and annual fundraiser at the Saratoga National Golf Club. At the event we will be presenting well-known author Joseph Bruchac III with our Metamorphosis Award\, an award given to an individual who has helped initiate great change in the community. We will also have a unique silent auction! Cost is $75.00 and pre registration is required by Tuesday\, October 11th by calling 518-450-0321.
X-ALT-DESC;FMTTYPE=text/html:Please join us at our 20th Anniversary Celebration and annual fundraiser at the Saratoga National Golf Club. At the event we will be presenting well-known author Joseph Bruchac III with our Metamorphosis Award\, an award given to an individual who has helped initiate great change in the community. We will also have a unique silent auction! Cost is $75.00 and pre&nbsp\;registration is required by Tuesday\, October 11th by calling 518-450-0321.
LOCATION:Saratoga National Golf Club\, 458 Union Avenue\, Saratoga Springs\, NY 12866
UID:e.2254.20770
SEQUENCE:3
DTSTAMP:20260420T214312Z
URL:https://chamber.saratoga.org/events/details/wild-about-blue-20770
END:VEVENT

END:VCALENDAR
