BEGIN:VCALENDAR
VERSION:2.0
PRODID:-//ChamberMaster//Event Calendar 2.0//EN
METHOD:PUBLISH
X-PUBLISHED-TTL:P3D
REFRESH-INTERVAL:P3D
CALSCALE:GREGORIAN
BEGIN:VEVENT
DTSTART:20150624T120000Z
DTEND:20150624T130000Z
X-MICROSOFT-CDO-ALLDAYEVENT:FALSE
SUMMARY:When safety is SHARP
DESCRIPTION:Presented by:\n\nMark Miller\n\nVisionary and President\n\nPerformance Industrial\n\n\n\nYou know that the SHARP Certification can earn your company up to a three-year exemption from general OSHA inspections. But\, it's the unexpected outcomes that bring the highest ROI at Performance Industrial. Mark Miller will share how attitudes\, expectations\, confidence\, and accountability have improved company-wide since everyone joined the safety committee and employees are trained to a higher standard. Learn how the NYS Department of Labor's SHARP program can help you build a safety culture and boost your bottom line.
X-ALT-DESC;FMTTYPE=text/html:Presented by:<br />\nMark Miller<br />\nVisionary and President<br />\nPerformance Industrial<br />\n<br />\nYou know that the SHARP Certification can earn your company up to a three-year exemption from general OSHA inspections. But\, it&rsquo\;s the <strong>unexpected outcomes that bring the highest ROI</strong> at Performance Industrial. Mark Miller will share how attitudes\, expectations\, confidence\, and accountability have improved company-wide since<em> everyone</em> joined the safety committee and employees are trained to a higher standard. Learn how the NYS Department of Labor&rsquo\;s SHARP program can help you <strong>build a safety culture and boost your bottom line.&nbsp\;</strong>
LOCATION:Saratoga County Chamber Offices 28 Clinton Street Saratoga Springs
UID:e.2254.9587
SEQUENCE:3
DTSTAMP:20260423T072455Z
URL:https://chamber.saratoga.org/events/details/when-safety-is-sharp-06-24-2015-9587
END:VEVENT

END:VCALENDAR
