BEGIN:VCALENDAR
VERSION:2.0
PRODID:-//ChamberMaster//Event Calendar 2.0//EN
METHOD:PUBLISH
X-PUBLISHED-TTL:P3D
REFRESH-INTERVAL:P3D
CALSCALE:GREGORIAN
BEGIN:VEVENT
DTSTART:20160309T160000Z
DTEND:20160309T180000Z
X-MICROSOFT-CDO-ALLDAYEVENT:FALSE
SUMMARY:??What you Need to Know for Financial Success into and through Retirement?
DESCRIPTION:On Wednesday\, March 9th at 11am\, Prestwick Chase At Saratoga will be hosting the seminar: What you Need to Know for Financial Success into and through Retirement.  This Seminar presented by Bouchey Financial Group will focus on questions such as: What are the best methods to provide income during retirement? What are the financial decisions points to consider.   When evaluating whether to move to 55 plus community? What are the essential estate planning documents to have in place? In what situations do you need to have a trust versus a will? Steven Bouchey has been the host of Lets Talk Money on News Radio WGY for almost 20 years. Bouchey Financial Group is a wealth management firm in Saratoga and Troy with over $275 Million in assets and celebrating their 25th year. Please join us at Prestwick Chase for this informative seminar and lunch. Call (518-584-7766) to reserve a seat today! We look forward to hearing from you.
X-ALT-DESC;FMTTYPE=text/html:On Wednesday\, March 9th at 11am\, Prestwick Chase At Saratoga will be hosting the seminar: What you Need to Know for Financial Success into and through Retirement. &nbsp\;This Seminar presented by Bouchey Financial Group will focus on questions such as: What are the best methods to provide income during retirement? What are the financial decisions points to consider. &nbsp\; When evaluating whether to move to 55 plus community? What are the essential estate planning documents to have in place? In what situations do you need to have a trust versus a will? Steven Bouchey has been the host of Lets Talk Money on News Radio WGY for almost 20 years. Bouchey Financial Group is a wealth management firm in Saratoga and Troy with over $275 Million in assets and celebrating their 25th year. Please join us at Prestwick Chase for this informative seminar and lunch. Call (518-584-7766) to reserve a seat today! We look forward to hearing from you.
LOCATION:Prestwick Chase 100 Saratoga Blvd Saratoga Springs NY 12866
UID:e.2254.14875
SEQUENCE:3
DTSTAMP:20260422T004957Z
URL:https://chamber.saratoga.org/events/details/what-you-need-to-know-for-financial-success-into-and-through-retirement-03-09-2016-14875
END:VEVENT

END:VCALENDAR
