BEGIN:VCALENDAR
VERSION:2.0
PRODID:-//ChamberMaster//Event Calendar 2.0//EN
METHOD:PUBLISH
X-PUBLISHED-TTL:P3D
REFRESH-INTERVAL:P3D
CALSCALE:GREGORIAN
BEGIN:VEVENT
DTSTART:20140824T150000Z
DTEND:20140824T170000Z
X-MICROSOFT-CDO-ALLDAYEVENT:FALSE
SUMMARY:What makes me\, me? Celebrating children & their uniqueness! - 08/24/2014
DESCRIPTION:Join us for an afternoon of fun at The Children's Museum at Saratoga as we help each child celebrate what makes them unique!\n\nDuring this event\, co-sponsored by Saratoga Mama: create a self-portrait while listening to a story that shares the importance of self-confidence\, make your mark on our ?Wall of Fame?\, enjoy door prize raffles\, light refreshments\, and special vendors! And that?s not all? participate in a 15 minute kids yoga class with all good things? and be entered into a drawing for a FREE Party at the museum by bringing a back-school item to be donated to the Franklin Community Center!
X-ALT-DESC;FMTTYPE=text/html:<p>Join us for an afternoon of fun at The Children&#39\;s Museum at Saratoga as we help each child celebrate what makes them unique!</p>\n\n<p>During this event\, co-sponsored by Saratoga Mama: create a self-portrait while listening to a story that shares the importance of self-confidence\, make your mark on our ?Wall of Fame?\, enjoy door prize raffles\, light refreshments\, and special vendors! And that?s not all? participate in a 15 minute kids yoga class with all good things? and be entered into a drawing for a FREE Party at the museum by bringing a back-school item to be donated to the Franklin Community Center!</p>\n
LOCATION:The Children's Museum at Saratoga
UID:e.2254.3536
SEQUENCE:3
DTSTAMP:20260424T140259Z
URL:https://chamber.saratoga.org/events/details/what-makes-me-me-celebrating-children-their-uniqueness-08-24-2014-08-24-2014-3536
END:VEVENT

END:VCALENDAR
