BEGIN:VCALENDAR
VERSION:2.0
PRODID:-//ChamberMaster//Event Calendar 2.0//EN
METHOD:PUBLISH
X-PUBLISHED-TTL:P3D
REFRESH-INTERVAL:P3D
CALSCALE:GREGORIAN
BEGIN:VEVENT
DTSTART:20151204T210000Z
DTEND:20151205T020000Z
X-MICROSOFT-CDO-ALLDAYEVENT:FALSE
SUMMARY:West Mountain "West Express" Lift Ribbon Cutting Ceremony
DESCRIPTION:West Mountain want's you to come up and celebrate the unveiling of the new "West Express" triple chair lift with a ribbon cutting ceremony on Friday\, December 4th.   Don't miss this monumental event co-sponsored by Better Than New Painting\, featuring FIREWORKS\, plus...Live Music by the Silver Arrow Band ZORBING $5pp (Ages 5 & Older) Silent Auction* Drink and Dinner Specials** Fire Pit w/ complimentary S'mores & Hot Cocoa Station\, AND DID WE SAY FIREWORKS!!!  *Silent Auction items include: a rare pewter handcrafted West Mountain belt buckle\, gift cards to some of your favorite restaurants and local businesses and a FULL PRIVILEGE Season Pass! **ESBE Specials: 1/2 price nachos and quesadillas\, $5 well drinks $5 Davidson's drafts $6 Mtn Mimosas (Malibu rum\, champagne\,cranberry & pineapple juice) $8 S'more\, "West Express" Martini's\, $5 house wine special. http://www.silverarrowband.com/ Thanks to our Sponsors~~!! ~~Better Than New Painting https://www.facebook.com/Better-Than-New-Painting-Inc-112825798733378/?fref=ts ~~Stewarts Shops https://www.facebook.com/YourStewarts/fref=ts ~~Davidson Bros https://www.facebook.com/DavidsonBrothersBrewing/fref=ts
X-ALT-DESC;FMTTYPE=text/html:West Mountain want&#39\;s you to come up and celebrate the unveiling of the new &quot\;West Express&quot\; triple chair lift with a ribbon cutting ceremony on Friday\, December 4th. &nbsp\; Don&#39\;t miss this monumental event co-sponsored by Better Than New Painting\, featuring FIREWORKS\, plus...Live Music by the Silver Arrow Band ZORBING $5pp (Ages 5 &amp\; Older) Silent Auction* Drink and Dinner Specials** Fire Pit w/ complimentary S&#39\;mores &amp\; Hot Cocoa Station\, AND DID WE SAY FIREWORKS!!! &nbsp\;*Silent Auction items include: a rare pewter handcrafted West Mountain belt buckle\, gift cards to some of your favorite restaurants and local businesses and a FULL PRIVILEGE Season Pass! **ESBE Specials: 1/2 price nachos and quesadillas\,&nbsp\;$5 well drinks $5 Davidson&#39\;s drafts $6 Mtn Mimosas (Malibu rum\, champagne\,cranberry &amp\; pineapple juice) $8 S&#39\;more\, &quot\;West Express&quot\; Martini&#39\;s\, $5 house wine special. http://www.silverarrowband.com/ Thanks to our Sponsors~~!! ~~Better Than New Painting https://www.facebook.com/Better-Than-New-Painting-Inc-112825798733378/?fref=ts ~~Stewarts Shops https://www.facebook.com/YourStewarts/fref=ts ~~Davidson Bros https://www.facebook.com/DavidsonBrothersBrewing/fref=ts
LOCATION:West Mountain Ski Center 59 West Mountain Road\, Queensbury\, NY 12804
UID:e.2254.13151
SEQUENCE:3
DTSTAMP:20260422T103407Z
URL:https://chamber.saratoga.org/events/details/west-mountain-west-express-lift-ribbon-cutting-ceremony-12-04-2015-13151
END:VEVENT

END:VCALENDAR
