BEGIN:VCALENDAR
VERSION:2.0
PRODID:-//ChamberMaster//Event Calendar 2.0//EN
METHOD:PUBLISH
X-PUBLISHED-TTL:P3D
REFRESH-INTERVAL:P3D
CALSCALE:GREGORIAN
BEGIN:VEVENT
DTSTART:20160613T140000Z
DTEND:20160613T150000Z
X-MICROSOFT-CDO-ALLDAYEVENT:FALSE
SUMMARY:Wellness Walk
DESCRIPTION:Come enjoy nature with others looking to get outside every month! The Wellness Walk is geared towards gentle exercise and will be accessible for participants at basic fitness levels. The walks will take place May 9th from Edie Rd. and June 13th at Old Gick
X-ALT-DESC;FMTTYPE=text/html:Come enjoy nature with others looking to get outside every month! The Wellness Walk is geared towards gentle exercise and will be accessible for participants at basic fitness levels. The walks will take place May 9th from Edie Rd. and June 13th at Old Gick
LOCATION:Old Gick Trailhead Rt. 50 Gansevoort\, NY 12831
UID:e.2254.16655
SEQUENCE:3
DTSTAMP:20260421T080220Z
URL:https://chamber.saratoga.org/events/details/wellness-walk-06-13-2016-16655
END:VEVENT

END:VCALENDAR
