BEGIN:VCALENDAR
VERSION:2.0
PRODID:-//ChamberMaster//Event Calendar 2.0//EN
METHOD:PUBLISH
X-PUBLISHED-TTL:P3D
REFRESH-INTERVAL:P3D
CALSCALE:GREGORIAN
BEGIN:VEVENT
DTSTART:20160208T150000Z
DTEND:20160208T160000Z
X-MICROSOFT-CDO-ALLDAYEVENT:FALSE
SUMMARY:Wellness Walk
DESCRIPTION:Come enjoy nature with others looking to get outside every month! The Wellness Walk is geared towards gentle exercise and will be accessible for participants at basic fitness levels. The second Monday of every month we will explore a different trailhead together. The walk on January 11th will depart from Camp Saratoga North and will last about an hour covering a mile and a half of gentle terrain. A walk will also take place February 8th. Preregistration is not required but appreciated.
X-ALT-DESC;FMTTYPE=text/html:Come enjoy nature with others looking to get outside every month! The Wellness Walk is geared towards gentle exercise and will be accessible for participants at basic fitness levels. The second Monday of every month we will explore a different trailhead together. The walk on January 11th will depart from Camp Saratoga North and will last about an hour covering a mile and a half of gentle terrain. A walk will also take place February 8th. Preregistration is not required but appreciated.
LOCATION:Camp Saratoga\, Parking Lot 1 Scout Rd Gansevoort\, NY 12831
UID:e.2254.13179
SEQUENCE:3
DTSTAMP:20260422T022223Z
URL:https://chamber.saratoga.org/events/details/wellness-walk-02-08-2016-13179
END:VEVENT

END:VCALENDAR
