BEGIN:VCALENDAR
VERSION:2.0
PRODID:-//ChamberMaster//Event Calendar 2.0//EN
METHOD:PUBLISH
X-PUBLISHED-TTL:P3D
REFRESH-INTERVAL:P3D
CALSCALE:GREGORIAN
BEGIN:VEVENT
DTSTART:20150705T170000Z
DTEND:20150705T180000Z
X-MICROSOFT-CDO-ALLDAYEVENT:FALSE
SUMMARY:Welcome Home President and Mrs. Grant
DESCRIPTION:Within a few weeks of leaving the White House\, President and Mrs. Grant departed the United States. Their world tour would last almost two years. Ulysses and Julia would visit Europe\, North Africa\, the Middle East\, India\, China and Japan. They would have many unique & wonderful experiences and gain special insight into the place of the United States in the world. The former President and First Lady are home now and they have stories to tell. They would like to share their stories with you and\, to this end\, request the pleasure of your company at Grant Cottage on Sunday\, July 5 at 1PM. President Grant will be portrayed by Steve Trimm. Mrs. Grant will be portrayed by Melissa Trombley-Prosch. They are Grant Cottage volunteers.
X-ALT-DESC;FMTTYPE=text/html:Within a few weeks of leaving the White House\, President and Mrs. Grant departed the United States. Their world tour would last almost two years. Ulysses and Julia would visit Europe\, North Africa\, the Middle East\, India\, China and Japan. They would have many unique &amp\; wonderful experiences and gain special insight into the place of the United States in the world. The former President and First Lady are home now and they have stories to tell. They would like to share their stories with you and\, to this end\, request the pleasure of your company at Grant Cottage on Sunday\, July 5 at 1PM. President Grant will be portrayed by Steve Trimm. Mrs. Grant will be portrayed by Melissa Trombley-Prosch. They are Grant Cottage volunteers.
LOCATION:Grant Cottage State Historic Site\, Wilton NY
UID:e.2254.5472
SEQUENCE:3
DTSTAMP:20260423T040856Z
URL:https://chamber.saratoga.org/events/details/welcome-home-president-and-mrs-grant-07-05-2015-5472
END:VEVENT

END:VCALENDAR
