BEGIN:VCALENDAR
VERSION:2.0
PRODID:-//ChamberMaster//Event Calendar 2.0//EN
METHOD:PUBLISH
X-PUBLISHED-TTL:P3D
REFRESH-INTERVAL:P3D
CALSCALE:GREGORIAN
BEGIN:VEVENT
DTSTART:20150423T213000Z
DTEND:20150423T230000Z
X-MICROSOFT-CDO-ALLDAYEVENT:FALSE
SUMMARY:Weiss Lecture: "Semiconductor Industry and its Contribution to Economic Growth"
DESCRIPTION:Weiss Lecture: "Semiconductor Industry and its Contribution to Economic Growth\," by Unnikrishnan Sadasivan Pillai\, assistant professor\, SUNY College of Nanoscale Science and Engineering. 5:30 p.m.-Emerson Auditorium For more information call 518-580-5091
X-ALT-DESC;FMTTYPE=text/html:Weiss Lecture: &quot\;Semiconductor Industry and its Contribution to Economic Growth\,&quot\; by Unnikrishnan Sadasivan Pillai\, assistant professor\, SUNY College of Nanoscale Science and Engineering. 5:30 p.m.-Emerson Auditorium For more information call 518-580-5091
LOCATION:Skidmore College\, Emerson Auditorium 815 N. Broadway Saratoga Springs\, NY 12866
UID:e.2254.7736
SEQUENCE:3
DTSTAMP:20260423T214426Z
URL:https://chamber.saratoga.org/events/details/weiss-lecture-semiconductor-industry-and-its-contribution-to-economic-growth-04-23-2015-7736
END:VEVENT

END:VCALENDAR
