BEGIN:VCALENDAR
VERSION:2.0
PRODID:-//ChamberMaster//Event Calendar 2.0//EN
METHOD:PUBLISH
X-PUBLISHED-TTL:P3D
REFRESH-INTERVAL:P3D
CALSCALE:GREGORIAN
BEGIN:VEVENT
DTSTART:20151101T170000Z
DTEND:20151101T200000Z
X-MICROSOFT-CDO-ALLDAYEVENT:FALSE
SUMMARY:Wedding Of Your Dreams Bridal Show
DESCRIPTION:The Wedding Of Your Dreams Bridal Show is designed to allow brides to come and plan their Dream Wedding under one roof. The Bridal Show caters to all budgets and styles. We encourage you to bring your Family\, Friends\, Bridal Party & Groom to our one of a kind show. Brides will be entered to win amazing raffles\, donated by local wedding vendors upon completion of the Passport Program. A Grand Prize will be given away at the show!
X-ALT-DESC;FMTTYPE=text/html:The Wedding Of Your Dreams Bridal Show is designed to allow brides to come and plan their Dream Wedding under one roof. The Bridal Show caters to all budgets and styles. We encourage you to bring your Family\, Friends\, Bridal Party &amp\; Groom to our one of a kind show. Brides will be entered to win amazing raffles\, donated by local wedding vendors upon completion of the Passport Program. A Grand Prize will be given away at the show!
LOCATION:The Vista at Van Patten Golf Club 924 Main Street Clifton Park\, NY 12065
UID:e.2254.12759
SEQUENCE:3
DTSTAMP:20260422T104116Z
URL:https://chamber.saratoga.org/events/details/wedding-of-your-dreams-bridal-show-11-01-2015-12759
END:VEVENT

END:VCALENDAR
