BEGIN:VCALENDAR
VERSION:2.0
PRODID:-//ChamberMaster//Event Calendar 2.0//EN
METHOD:PUBLISH
X-PUBLISHED-TTL:P3D
REFRESH-INTERVAL:P3D
CALSCALE:GREGORIAN
BEGIN:VEVENT
DTSTART:20160708T130000Z
DTEND:20160710T200000Z
X-MICROSOFT-CDO-ALLDAYEVENT:FALSE
SUMMARY:Weaving for Wearable-Scarf Project with Lilly Marsh. #997-0708. 3 Days\, June 3-5.
DESCRIPTION:This class will take the student through basic design considerations from warping\, weaving and finishing a relatively fine tencel scarf or shawl. Students will be provided with their choice of color in 5/2 tencel (18-24 epi) and encouraged to experiment with color play in plainweave or simple twill structures. Friday will be designing and warping\, Saturday is weaving and Sunday will be final finishing with a group show and tell\, as well as a projection for the next weaving project. Basic weaving skills will be addressed throughout. Students will contribute to a pool of weaving resources (print\, online and local) and should finish with confidence in their ability to move towards their next weaving goal.
X-ALT-DESC;FMTTYPE=text/html:<pre>\n<span style="font-size:12pt"><span style="font-family:arial\,sans-serif"><span style="color:black">This class will take the student through basic design considerations from warping\, weaving and finishing a relatively fine tencel scarf or shawl. Students will be provided with their choice of color in 5/2 tencel (18-24 epi) and encouraged to experiment with color play in plainweave or simple twill structures. Friday will be designing and warping\, Saturday is weaving and Sunday will be final finishing with a group show and tell\, as well as a projection for the next weaving project. Basic weaving skills will be addressed throughout. Students will contribute to a pool of weaving resources (print\, online and local) and should finish with confidence in their ability to move towards their next weaving goal.</span></span></span></pre>\n\n<pre>\n\n&nbsp\;</pre>\n
LOCATION:Adirondack Folk School 51 Main Street Lake Luzerne\, NY 12846
UID:e.2254.16814
SEQUENCE:3
DTSTAMP:20260421T050509Z
URL:https://chamber.saratoga.org/events/details/weaving-for-wearable-scarf-project-with-lilly-marsh-997-0708-3-days-june-3-5-07-08-2016-16814
END:VEVENT

END:VCALENDAR
