BEGIN:VCALENDAR
VERSION:2.0
PRODID:-//ChamberMaster//Event Calendar 2.0//EN
METHOD:PUBLISH
X-PUBLISHED-TTL:P3D
REFRESH-INTERVAL:P3D
CALSCALE:GREGORIAN
BEGIN:VEVENT
DTSTART:20151107T140000Z
DTEND:20151107T170000Z
X-MICROSOFT-CDO-ALLDAYEVENT:FALSE
SUMMARY:Walk to The Heroes
DESCRIPTION:WALK TO THE HEROES Sponsored by the Mechanicville Elks #1403 5k walk from the Saratoga Battlefield to the National Cemetery. Walk individually or put together a team. Come and support our VETERANS who have sacrificed their lives for our freedoms. Let's show them they are not forgotten and we care!
X-ALT-DESC;FMTTYPE=text/html:WALK TO THE HEROES Sponsored by the Mechanicville Elks #1403 5k walk from the Saratoga Battlefield to the National Cemetery. Walk individually or put together a team. Come and support our VETERANS who have sacrificed their lives for our freedoms. Let&#39\;s show them they are not forgotten and we care!
LOCATION:Saratoga National Cemetery
UID:e.2254.12752
SEQUENCE:3
DTSTAMP:20260422T103421Z
URL:https://chamber.saratoga.org/events/details/walk-to-the-heroes-11-07-2015-12752
END:VEVENT

END:VCALENDAR
