BEGIN:VCALENDAR
VERSION:2.0
PRODID:-//ChamberMaster//Event Calendar 2.0//EN
METHOD:PUBLISH
X-PUBLISHED-TTL:P3D
REFRESH-INTERVAL:P3D
CALSCALE:GREGORIAN
BEGIN:VEVENT
DTSTART:20150503T130000Z
DTEND:20150503T180000Z
X-MICROSOFT-CDO-ALLDAYEVENT:FALSE
SUMMARY:Walk! MS
DESCRIPTION:Walk MS is the rallying point of the MS movement- a community coming together to raise funds and celebrate hope for a future without MS. Through our 50 state network of chapters\, Walk MS provides an opportunity to connect people living with MS and those who care about them. This community event raises critical funds to support life-changing programs and cutting-edge research. Nearly 340\,000 people come together nation-wide to show the power of connections. Right here in Upstate New York\, our 19 Walk MS locations raised more than $1.3 million in 2014. We encourage you to get connected and be part of the Upstate New York Chapter?s largest signature event by sponsoring this event.
X-ALT-DESC;FMTTYPE=text/html:Walk MS is the rallying point of the MS movement- a community coming together to raise funds and celebrate hope for a future without MS. Through our 50 state network of chapters\, Walk MS provides an opportunity to connect people living with MS and those who care about them. This community event raises critical funds to support life-changing programs and cutting-edge research. Nearly 340\,000 people come together nation-wide to show the power of connections. Right here in Upstate New York\, our 19 Walk MS locations raised more than $1.3 million in 2014. We encourage you to get connected and be part of the Upstate New York Chapter?s largest signature event by sponsoring this event.
LOCATION:Saratoga High School\, 1 Blue Streak Blvd.\, Saratoga Springs\, NY 12866
UID:e.2254.6062
SEQUENCE:3
DTSTAMP:20260423T180511Z
URL:https://chamber.saratoga.org/events/details/walk-ms-05-03-2015-6062
END:VEVENT

END:VCALENDAR
